BEGIN:VCALENDAR
VERSION:2.0
PRODID:-//Edlio Inc//Edlio Calendar//EN
CALSCALE:GREGORIAN
METHOD:PUBLISH
X-WR-CALNAME:Paul Robeson Charter School - PRCS Calendar
X-ORIGINAL-URL:https://www.paulrobesoncs.org
X-WR-CALDESC:Events calendar for www.paulrobesoncs.org
X-WR-TIMEZONE:US/Eastern
REFRESH-INTERVAL;VALUE=DURATION:PT1H
X-Robots-Tag:noindex
X-PUBLISHED-TTL:PT1H
BEGIN:VTIMEZONE
TZID:US/Eastern
BEGIN:STANDARD
TZOFFSETFROM:-0400
TZOFFSETTO:-0500
DTSTART:20071104T020000
RRULE:FREQ=YEARLY;BYMONTH=11;BYDAY=1SU
END:STANDARD
BEGIN:DAYLIGHT
TZOFFSETFROM:-0500
TZOFFSETTO:-0400
DTSTART:20070311T020000
RRULE:FREQ=YEARLY;BYMONTH=3;BYDAY=2SU
END:DAYLIGHT
END:VTIMEZONE
BEGIN:VTIMEZONE
TZID:US/East-Indiana
BEGIN:STANDARD
TZOFFSETFROM:-0500
TZOFFSETTO:-0500
DTSTART:19701025T020000
END:STANDARD
END:VTIMEZONE
BEGIN:VTIMEZONE
TZID:US/Eastern
BEGIN:STANDARD
TZOFFSETFROM:-0400
TZOFFSETTO:-0500
DTSTART:19701025T020000
RRULE:FREQ=YEARLY;BYMONTH=10;BYDAY=-1SU;UNTIL=20070311T020000
END:STANDARD
BEGIN:STANDARD
TZOFFSETFROM:-0400
TZOFFSETTO:-0500
DTSTART:20071104T020000
RRULE:FREQ=YEARLY;BYMONTH=11;BYDAY=1SU
END:STANDARD
BEGIN:DAYLIGHT
TZOFFSETFROM:-0500
TZOFFSETTO:-0400
DTSTART:19870405T020000
RRULE:FREQ=YEARLY;BYMONTH=4;BYDAY=1SU;UNTIL=20061029T020000
END:DAYLIGHT
BEGIN:DAYLIGHT
TZOFFSETFROM:-0500
TZOFFSETTO:-0400
DTSTART:20070311T020000
RRULE:FREQ=YEARLY;BYMONTH=3;BYDAY=2SU
END:DAYLIGHT
END:VTIMEZONE
BEGIN:VTIMEZONE
TZID:US/Michigan
BEGIN:STANDARD
TZOFFSETFROM:-0400
TZOFFSETTO:-0500
DTSTART:19701025T020000
RRULE:FREQ=YEARLY;BYMONTH=10;BYDAY=-1SU;UNTIL=20070311T020000
END:STANDARD
BEGIN:STANDARD
TZOFFSETFROM:-0400
TZOFFSETTO:-0500
DTSTART:20071104T020000
RRULE:FREQ=YEARLY;BYMONTH=11;BYDAY=1SU
END:STANDARD
BEGIN:DAYLIGHT
TZOFFSETFROM:-0500
TZOFFSETTO:-0400
DTSTART:19870405T020000
RRULE:FREQ=YEARLY;BYMONTH=4;BYDAY=1SU;UNTIL=20061029T020000
END:DAYLIGHT
BEGIN:DAYLIGHT
TZOFFSETFROM:-0500
TZOFFSETTO:-0400
DTSTART:20070311T020000
RRULE:FREQ=YEARLY;BYMONTH=3;BYDAY=2SU
END:DAYLIGHT
END:VTIMEZONE
BEGIN:VTIMEZONE
TZID:US/Central
BEGIN:STANDARD
TZOFFSETFROM:-0500
TZOFFSETTO:-0600
DTSTART:19701025T020000
RRULE:FREQ=YEARLY;BYMONTH=10;BYDAY=-1SU;UNTIL=20070311T020000
END:STANDARD
BEGIN:STANDARD
TZOFFSETFROM:-0500
TZOFFSETTO:-0600
DTSTART:20071104T020000
RRULE:FREQ=YEARLY;BYMONTH=11;BYDAY=1SU
END:STANDARD
BEGIN:DAYLIGHT
TZOFFSETFROM:-0600
TZOFFSETTO:-0500
DTSTART:19870405T020000
RRULE:FREQ=YEARLY;BYMONTH=4;BYDAY=1SU;UNTIL=20061029T020000
END:DAYLIGHT
BEGIN:DAYLIGHT
TZOFFSETFROM:-0600
TZOFFSETTO:-0500
DTSTART:20070311T020000
RRULE:FREQ=YEARLY;BYMONTH=3;BYDAY=2SU
END:DAYLIGHT
END:VTIMEZONE
BEGIN:VTIMEZONE
TZID:US/Mountain
BEGIN:STANDARD
TZOFFSETFROM:-0600
TZOFFSETTO:-0700
DTSTART:19701025T020000
RRULE:FREQ=YEARLY;BYMONTH=10;BYDAY=-1SU;UNTIL=20070311T020000
END:STANDARD
BEGIN:STANDARD
TZOFFSETFROM:-0600
TZOFFSETTO:-0700
DTSTART:20071104T020000
RRULE:FREQ=YEARLY;BYMONTH=11;BYDAY=1SU
END:STANDARD
BEGIN:DAYLIGHT
TZOFFSETFROM:-0700
TZOFFSETTO:-0600
DTSTART:19870405T020000
RRULE:FREQ=YEARLY;BYMONTH=4;BYDAY=1SU;UNTIL=20061029T020000
END:DAYLIGHT
BEGIN:DAYLIGHT
TZOFFSETFROM:-0700
TZOFFSETTO:-0600
DTSTART:20070311T020000
RRULE:FREQ=YEARLY;BYMONTH=3;BYDAY=2SU
END:DAYLIGHT
END:VTIMEZONE
BEGIN:VTIMEZONE
TZID:US/Arizona
BEGIN:STANDARD
TZOFFSETFROM:-0700
TZOFFSETTO:-0700
DTSTART:19701025T020000
END:STANDARD
END:VTIMEZONE
BEGIN:VTIMEZONE
TZID:US/Pacific
BEGIN:STANDARD
TZOFFSETFROM:-0700
TZOFFSETTO:-0800
DTSTART:19701025T020000
RRULE:FREQ=YEARLY;BYMONTH=10;BYDAY=-1SU;UNTIL=20070311T020000
END:STANDARD
BEGIN:STANDARD
TZOFFSETFROM:-0700
TZOFFSETTO:-0800
DTSTART:20071104T020000
RRULE:FREQ=YEARLY;BYMONTH=11;BYDAY=1SU
END:STANDARD
BEGIN:DAYLIGHT
TZOFFSETFROM:-0800
TZOFFSETTO:-0700
DTSTART:19870405T020000
RRULE:FREQ=YEARLY;BYMONTH=4;BYDAY=1SU;UNTIL=20061029T020000
END:DAYLIGHT
BEGIN:DAYLIGHT
TZOFFSETFROM:-0800
TZOFFSETTO:-0700
DTSTART:20070311T020000
RRULE:FREQ=YEARLY;BYMONTH=3;BYDAY=2SU
END:DAYLIGHT
END:VTIMEZONE
BEGIN:VTIMEZONE
TZID:US/Alaska
BEGIN:STANDARD
TZOFFSETFROM:-0800
TZOFFSETTO:-0900
DTSTART:19701025T020000
RRULE:FREQ=YEARLY;BYMONTH=10;BYDAY=-1SU;UNTIL=20070311T020000
END:STANDARD
BEGIN:STANDARD
TZOFFSETFROM:-0800
TZOFFSETTO:-0900
DTSTART:20071104T020000
RRULE:FREQ=YEARLY;BYMONTH=11;BYDAY=1SU
END:STANDARD
BEGIN:DAYLIGHT
TZOFFSETFROM:-0900
TZOFFSETTO:-0800
DTSTART:19870405T020000
RRULE:FREQ=YEARLY;BYMONTH=4;BYDAY=1SU;UNTIL=20061029T020000
END:DAYLIGHT
BEGIN:DAYLIGHT
TZOFFSETFROM:-0900
TZOFFSETTO:-0800
DTSTART:20070311T020000
RRULE:FREQ=YEARLY;BYMONTH=3;BYDAY=2SU
END:DAYLIGHT
END:VTIMEZONE
BEGIN:VTIMEZONE
TZID:US/Hawaii
BEGIN:STANDARD
TZOFFSETFROM:-1000
TZOFFSETTO:-1000
DTSTART:19701025T020000
END:STANDARD
END:VTIMEZONE
BEGIN:VTIMEZONE
TZID:US/Aleutian
BEGIN:STANDARD
TZOFFSETFROM:-1000
TZOFFSETTO:-1000
DTSTART:19701025T020000
END:STANDARD
END:VTIMEZONE
BEGIN:VTIMEZONE
TZID:US/Samoa
BEGIN:STANDARD
TZOFFSETFROM:-1100
TZOFFSETTO:-1100
DTSTART:19701025T020000
END:STANDARD
END:VTIMEZONE
BEGIN:VEVENT
UID:31116709@www.paulrobesoncs.org#20250902
SEQUENCE:0
CREATED:20250808T083938Z
LAST-MODIFIED:20250808T083938Z
DTSTART;VALUE=DATE:20250902
DURATION:P1D
SUMMARY:First Day of School
CATEGORIES:PRCS Calendar
DESCRIPTION:Welcome Paul Robeson Charter School students and families!<br><
 br>The first day of the 2025–2026 school year is here! We’re excited to ki
 ck off a new year of learning\, growth\, and community.\n<a href=' https:/
 /www.paulrobesoncs.org/apps/events/31116709/'>Read more</a>
URL:https://www.paulrobesoncs.org/apps/events/31116709/
ORGANIZER;CN="Edlio Calendar":MAILTO:noreply@www.paulrobesoncs.org
DTSTAMP:20260421T144438Z
END:VEVENT
BEGIN:VEVENT
UID:36217730@www.paulrobesoncs.org#20260309
SEQUENCE:0
CREATED:20260303T115615Z
LAST-MODIFIED:20260303T115615Z
DTSTART;VALUE=DATE:20260309
DURATION:P1D
SUMMARY:HALF DAY
CATEGORIES:PRCS Calendar
DESCRIPTION:Hello Families! <br><br>With the two snow days taken last week\
 , we have now used three (3) total snow days of an allotted two (2) built 
 into our calendar. Accordingly\, one snow day needs to be made up. The sno
 w day taken on Tuesday\, February 24 will be made up by converting our Mon
 day\, March 9th\n<a href=' https://www.paulrobesoncs.org/apps/events/36217
 730/'>Read more</a>
URL:https://www.paulrobesoncs.org/apps/events/36217730/
ORGANIZER;CN="Edlio Calendar":MAILTO:noreply@www.paulrobesoncs.org
DTSTAMP:20260421T144438Z
END:VEVENT
BEGIN:VEVENT
UID:8836251@www.paulrobesoncs.org#20210210
SEQUENCE:0
CREATED:20210126T193714Z
LAST-MODIFIED:20210126T193714Z
DTSTART;VALUE=DATE:20210210
DURATION:P1D
RRULE:FREQ=DAILY;COUNT=2;WKST=SU
SUMMARY:Q2 Report Cart Conferences 
CATEGORIES:PRCS Calendar
URL:https://www.paulrobesoncs.org/apps/events/8836251/
ORGANIZER;CN="Edlio Calendar":MAILTO:noreply@www.paulrobesoncs.org
DTSTAMP:20260421T144438Z
END:VEVENT
BEGIN:VEVENT
UID:8836441@www.paulrobesoncs.org#20210421
SEQUENCE:0
CREATED:20210126T195223Z
LAST-MODIFIED:20210126T195223Z
DTSTART;VALUE=DATE:20210421
DURATION:P1D
RRULE:FREQ=DAILY;COUNT=2;WKST=SU
SUMMARY:Q3 Report Card Conferences 
CATEGORIES:PRCS Calendar
URL:https://www.paulrobesoncs.org/apps/events/8836441/
ORGANIZER;CN="Edlio Calendar":MAILTO:noreply@www.paulrobesoncs.org
DTSTAMP:20260421T144438Z
END:VEVENT
BEGIN:VEVENT
UID:8836288@www.paulrobesoncs.org#20210405
SEQUENCE:0
CREATED:20210126T194041Z
LAST-MODIFIED:20210126T194041Z
DTSTART;VALUE=DATE:20210405
DURATION:P1D
RRULE:FREQ=DAILY;COUNT=5;WKST=SU
SUMMARY:Spring Break: No School
CATEGORIES:PRCS Calendar
URL:https://www.paulrobesoncs.org/apps/events/8836288/
ORGANIZER;CN="Edlio Calendar":MAILTO:noreply@www.paulrobesoncs.org
DTSTAMP:20260421T144438Z
END:VEVENT
BEGIN:VEVENT
UID:8836307@www.paulrobesoncs.org#20210331
SEQUENCE:0
CREATED:20210126T194341Z
LAST-MODIFIED:20210126T194341Z
DTSTART;TZID=US/Eastern:20210331T080000
DTEND;TZID=US/Eastern:20210331T120000
RRULE:FREQ=WEEKLY;WKST=SU;UNTIL=20210402T035959Z;BYDAY=TH,WE;WKST=SU
SUMMARY:ANet Testing 
CATEGORIES:PRCS Calendar
URL:https://www.paulrobesoncs.org/apps/events/8836307/
ORGANIZER;CN="Edlio Calendar":MAILTO:noreply@www.paulrobesoncs.org
DTSTAMP:20260421T144438Z
END:VEVENT
BEGIN:VEVENT
UID:8836341@www.paulrobesoncs.org#20210607
SEQUENCE:0
CREATED:20210126T194847Z
LAST-MODIFIED:20210126T194847Z
DTSTART;TZID=US/Eastern:20210607T080000
DTEND;TZID=US/Eastern:20210607T120000
RRULE:FREQ=DAILY;UNTIL=20210610T035959Z;WKST=SU
SUMMARY:Map Testing 
CATEGORIES:PRCS Calendar
URL:https://www.paulrobesoncs.org/apps/events/8836341/
ORGANIZER;CN="Edlio Calendar":MAILTO:noreply@www.paulrobesoncs.org
DTSTAMP:20260421T144438Z
END:VEVENT
BEGIN:VEVENT
UID:8833719@www.paulrobesoncs.org#20210128
SEQUENCE:0
CREATED:20210126T145440Z
LAST-MODIFIED:20210126T145440Z
DTSTART;TZID=US/Eastern:20210128T080000
DTEND;TZID=US/Eastern:20210128T120000
RRULE:FREQ=WEEKLY;WKST=SU;UNTIL=20210130T045959Z;BYDAY=FR,TH;WKST=SU
SUMMARY:Q2 Assessments
CATEGORIES:PRCS Calendar
URL:https://www.paulrobesoncs.org/apps/events/8833719/
ORGANIZER;CN="Edlio Calendar":MAILTO:noreply@www.paulrobesoncs.org
DTSTAMP:20260421T144438Z
END:VEVENT
END:VCALENDAR
